BEGIN:VCALENDAR
VERSION:2.0
PRODID:-//Absolute Danz - ECPv6.15.20//NONSGML v1.0//EN
CALSCALE:GREGORIAN
METHOD:PUBLISH
X-WR-CALNAME:Absolute Danz
X-ORIGINAL-URL:https://absolutedanz.com
X-WR-CALDESC:Events for Absolute Danz
REFRESH-INTERVAL;VALUE=DURATION:PT1H
X-Robots-Tag:noindex
X-PUBLISHED-TTL:PT1H
BEGIN:VTIMEZONE
TZID:America/Chicago
BEGIN:DAYLIGHT
TZOFFSETFROM:-0600
TZOFFSETTO:-0500
TZNAME:CDT
DTSTART:20250309T080000
END:DAYLIGHT
BEGIN:STANDARD
TZOFFSETFROM:-0500
TZOFFSETTO:-0600
TZNAME:CST
DTSTART:20251102T070000
END:STANDARD
BEGIN:DAYLIGHT
TZOFFSETFROM:-0600
TZOFFSETTO:-0500
TZNAME:CDT
DTSTART:20260308T080000
END:DAYLIGHT
BEGIN:STANDARD
TZOFFSETFROM:-0500
TZOFFSETTO:-0600
TZNAME:CST
DTSTART:20261101T070000
END:STANDARD
BEGIN:DAYLIGHT
TZOFFSETFROM:-0600
TZOFFSETTO:-0500
TZNAME:CDT
DTSTART:20270314T080000
END:DAYLIGHT
BEGIN:STANDARD
TZOFFSETFROM:-0500
TZOFFSETTO:-0600
TZNAME:CST
DTSTART:20271107T070000
END:STANDARD
END:VTIMEZONE
BEGIN:VEVENT
DTSTART;TZID=America/Chicago:20260420T090000
DTEND;TZID=America/Chicago:20260420T100000
DTSTAMP:20260420T025342
CREATED:20241014T153332Z
LAST-MODIFIED:20241014T153332Z
UID:10000380-1776675600-1776679200@absolutedanz.com
SUMMARY:Aerobic Dance w/ Debbie
DESCRIPTION:Jacki Sorensen Aerobic Dance Class taught by Debbie! \nwww.jackis.com \nFor pricing and more info contact Debbie at 920-729-5988 or debbeadswithlove@yahoo.com \n 
URL:https://absolutedanz.com/event/aerobic-dance-w-debbie/2026-04-20/
LOCATION:Absolute Danz\, 1261 Appleton Road\, Menasha\, WI
END:VEVENT
BEGIN:VEVENT
DTSTART;TZID=America/Chicago:20260422T090000
DTEND;TZID=America/Chicago:20260422T100000
DTSTAMP:20260420T025342
CREATED:20241014T153332Z
LAST-MODIFIED:20241014T153332Z
UID:10000381-1776848400-1776852000@absolutedanz.com
SUMMARY:Aerobic Dance w/ Debbie
DESCRIPTION:Jacki Sorensen Aerobic Dance Class taught by Debbie! \nwww.jackis.com \nFor pricing and more info contact Debbie at 920-729-5988 or debbeadswithlove@yahoo.com \n 
URL:https://absolutedanz.com/event/aerobic-dance-w-debbie/2026-04-22/
LOCATION:Absolute Danz\, 1261 Appleton Road\, Menasha\, WI
END:VEVENT
BEGIN:VEVENT
DTSTART;TZID=America/Chicago:20260424T090000
DTEND;TZID=America/Chicago:20260424T100000
DTSTAMP:20260420T025342
CREATED:20241014T153332Z
LAST-MODIFIED:20241014T153332Z
UID:10000382-1777021200-1777024800@absolutedanz.com
SUMMARY:Aerobic Dance w/ Debbie
DESCRIPTION:Jacki Sorensen Aerobic Dance Class taught by Debbie! \nwww.jackis.com \nFor pricing and more info contact Debbie at 920-729-5988 or debbeadswithlove@yahoo.com \n 
URL:https://absolutedanz.com/event/aerobic-dance-w-debbie/2026-04-24/
LOCATION:Absolute Danz\, 1261 Appleton Road\, Menasha\, WI
END:VEVENT
BEGIN:VEVENT
DTSTART;TZID=America/Chicago:20260427T090000
DTEND;TZID=America/Chicago:20260427T100000
DTSTAMP:20260420T025342
CREATED:20241014T153332Z
LAST-MODIFIED:20241014T153332Z
UID:10000383-1777280400-1777284000@absolutedanz.com
SUMMARY:Aerobic Dance w/ Debbie
DESCRIPTION:Jacki Sorensen Aerobic Dance Class taught by Debbie! \nwww.jackis.com \nFor pricing and more info contact Debbie at 920-729-5988 or debbeadswithlove@yahoo.com \n 
URL:https://absolutedanz.com/event/aerobic-dance-w-debbie/2026-04-27/
LOCATION:Absolute Danz\, 1261 Appleton Road\, Menasha\, WI
END:VEVENT
BEGIN:VEVENT
DTSTART;TZID=America/Chicago:20260429T090000
DTEND;TZID=America/Chicago:20260429T100000
DTSTAMP:20260420T025342
CREATED:20241014T153332Z
LAST-MODIFIED:20241014T153332Z
UID:10000384-1777453200-1777456800@absolutedanz.com
SUMMARY:Aerobic Dance w/ Debbie
DESCRIPTION:Jacki Sorensen Aerobic Dance Class taught by Debbie! \nwww.jackis.com \nFor pricing and more info contact Debbie at 920-729-5988 or debbeadswithlove@yahoo.com \n 
URL:https://absolutedanz.com/event/aerobic-dance-w-debbie/2026-04-29/
LOCATION:Absolute Danz\, 1261 Appleton Road\, Menasha\, WI
END:VEVENT
BEGIN:VEVENT
DTSTART;TZID=America/Chicago:20260501T090000
DTEND;TZID=America/Chicago:20260501T100000
DTSTAMP:20260420T025342
CREATED:20241014T153332Z
LAST-MODIFIED:20241014T153332Z
UID:10000385-1777626000-1777629600@absolutedanz.com
SUMMARY:Aerobic Dance w/ Debbie
DESCRIPTION:Jacki Sorensen Aerobic Dance Class taught by Debbie! \nwww.jackis.com \nFor pricing and more info contact Debbie at 920-729-5988 or debbeadswithlove@yahoo.com \n 
URL:https://absolutedanz.com/event/aerobic-dance-w-debbie/2026-05-01/
LOCATION:Absolute Danz\, 1261 Appleton Road\, Menasha\, WI
END:VEVENT
BEGIN:VEVENT
DTSTART;TZID=America/Chicago:20260504T090000
DTEND;TZID=America/Chicago:20260504T100000
DTSTAMP:20260420T025342
CREATED:20241014T153332Z
LAST-MODIFIED:20241014T153332Z
UID:10000386-1777885200-1777888800@absolutedanz.com
SUMMARY:Aerobic Dance w/ Debbie
DESCRIPTION:Jacki Sorensen Aerobic Dance Class taught by Debbie! \nwww.jackis.com \nFor pricing and more info contact Debbie at 920-729-5988 or debbeadswithlove@yahoo.com \n 
URL:https://absolutedanz.com/event/aerobic-dance-w-debbie/2026-05-04/
LOCATION:Absolute Danz\, 1261 Appleton Road\, Menasha\, WI
END:VEVENT
BEGIN:VEVENT
DTSTART;TZID=America/Chicago:20260506T090000
DTEND;TZID=America/Chicago:20260506T100000
DTSTAMP:20260420T025342
CREATED:20241014T153332Z
LAST-MODIFIED:20241014T153332Z
UID:10000387-1778058000-1778061600@absolutedanz.com
SUMMARY:Aerobic Dance w/ Debbie
DESCRIPTION:Jacki Sorensen Aerobic Dance Class taught by Debbie! \nwww.jackis.com \nFor pricing and more info contact Debbie at 920-729-5988 or debbeadswithlove@yahoo.com \n 
URL:https://absolutedanz.com/event/aerobic-dance-w-debbie/2026-05-06/
LOCATION:Absolute Danz\, 1261 Appleton Road\, Menasha\, WI
END:VEVENT
BEGIN:VEVENT
DTSTART;TZID=America/Chicago:20260508T090000
DTEND;TZID=America/Chicago:20260508T100000
DTSTAMP:20260420T025342
CREATED:20241014T153332Z
LAST-MODIFIED:20241014T153332Z
UID:10000388-1778230800-1778234400@absolutedanz.com
SUMMARY:Aerobic Dance w/ Debbie
DESCRIPTION:Jacki Sorensen Aerobic Dance Class taught by Debbie! \nwww.jackis.com \nFor pricing and more info contact Debbie at 920-729-5988 or debbeadswithlove@yahoo.com \n 
URL:https://absolutedanz.com/event/aerobic-dance-w-debbie/2026-05-08/
LOCATION:Absolute Danz\, 1261 Appleton Road\, Menasha\, WI
END:VEVENT
BEGIN:VEVENT
DTSTART;TZID=America/Chicago:20260511T090000
DTEND;TZID=America/Chicago:20260511T100000
DTSTAMP:20260420T025342
CREATED:20241014T153332Z
LAST-MODIFIED:20241014T153332Z
UID:10000389-1778490000-1778493600@absolutedanz.com
SUMMARY:Aerobic Dance w/ Debbie
DESCRIPTION:Jacki Sorensen Aerobic Dance Class taught by Debbie! \nwww.jackis.com \nFor pricing and more info contact Debbie at 920-729-5988 or debbeadswithlove@yahoo.com \n 
URL:https://absolutedanz.com/event/aerobic-dance-w-debbie/2026-05-11/
LOCATION:Absolute Danz\, 1261 Appleton Road\, Menasha\, WI
END:VEVENT
BEGIN:VEVENT
DTSTART;TZID=America/Chicago:20260513T090000
DTEND;TZID=America/Chicago:20260513T100000
DTSTAMP:20260420T025342
CREATED:20241014T153332Z
LAST-MODIFIED:20241014T153332Z
UID:10000390-1778662800-1778666400@absolutedanz.com
SUMMARY:Aerobic Dance w/ Debbie
DESCRIPTION:Jacki Sorensen Aerobic Dance Class taught by Debbie! \nwww.jackis.com \nFor pricing and more info contact Debbie at 920-729-5988 or debbeadswithlove@yahoo.com \n 
URL:https://absolutedanz.com/event/aerobic-dance-w-debbie/2026-05-13/
LOCATION:Absolute Danz\, 1261 Appleton Road\, Menasha\, WI
END:VEVENT
BEGIN:VEVENT
DTSTART;TZID=America/Chicago:20260515T090000
DTEND;TZID=America/Chicago:20260515T100000
DTSTAMP:20260420T025342
CREATED:20241014T153332Z
LAST-MODIFIED:20241014T153332Z
UID:10000391-1778835600-1778839200@absolutedanz.com
SUMMARY:Aerobic Dance w/ Debbie
DESCRIPTION:Jacki Sorensen Aerobic Dance Class taught by Debbie! \nwww.jackis.com \nFor pricing and more info contact Debbie at 920-729-5988 or debbeadswithlove@yahoo.com \n 
URL:https://absolutedanz.com/event/aerobic-dance-w-debbie/2026-05-15/
LOCATION:Absolute Danz\, 1261 Appleton Road\, Menasha\, WI
END:VEVENT
BEGIN:VEVENT
DTSTART;TZID=America/Chicago:20260518T090000
DTEND;TZID=America/Chicago:20260518T100000
DTSTAMP:20260420T025342
CREATED:20241014T153332Z
LAST-MODIFIED:20241014T153332Z
UID:10000392-1779094800-1779098400@absolutedanz.com
SUMMARY:Aerobic Dance w/ Debbie
DESCRIPTION:Jacki Sorensen Aerobic Dance Class taught by Debbie! \nwww.jackis.com \nFor pricing and more info contact Debbie at 920-729-5988 or debbeadswithlove@yahoo.com \n 
URL:https://absolutedanz.com/event/aerobic-dance-w-debbie/2026-05-18/
LOCATION:Absolute Danz\, 1261 Appleton Road\, Menasha\, WI
END:VEVENT
BEGIN:VEVENT
DTSTART;TZID=America/Chicago:20260520T090000
DTEND;TZID=America/Chicago:20260520T100000
DTSTAMP:20260420T025342
CREATED:20241014T153332Z
LAST-MODIFIED:20241014T153332Z
UID:10000393-1779267600-1779271200@absolutedanz.com
SUMMARY:Aerobic Dance w/ Debbie
DESCRIPTION:Jacki Sorensen Aerobic Dance Class taught by Debbie! \nwww.jackis.com \nFor pricing and more info contact Debbie at 920-729-5988 or debbeadswithlove@yahoo.com \n 
URL:https://absolutedanz.com/event/aerobic-dance-w-debbie/2026-05-20/
LOCATION:Absolute Danz\, 1261 Appleton Road\, Menasha\, WI
END:VEVENT
BEGIN:VEVENT
DTSTART;TZID=America/Chicago:20260522T090000
DTEND;TZID=America/Chicago:20260522T100000
DTSTAMP:20260420T025342
CREATED:20241014T153332Z
LAST-MODIFIED:20241014T153332Z
UID:10000394-1779440400-1779444000@absolutedanz.com
SUMMARY:Aerobic Dance w/ Debbie
DESCRIPTION:Jacki Sorensen Aerobic Dance Class taught by Debbie! \nwww.jackis.com \nFor pricing and more info contact Debbie at 920-729-5988 or debbeadswithlove@yahoo.com \n 
URL:https://absolutedanz.com/event/aerobic-dance-w-debbie/2026-05-22/
LOCATION:Absolute Danz\, 1261 Appleton Road\, Menasha\, WI
END:VEVENT
BEGIN:VEVENT
DTSTART;TZID=America/Chicago:20260525T090000
DTEND;TZID=America/Chicago:20260525T100000
DTSTAMP:20260420T025342
CREATED:20241014T153332Z
LAST-MODIFIED:20241014T153332Z
UID:10000395-1779699600-1779703200@absolutedanz.com
SUMMARY:Aerobic Dance w/ Debbie
DESCRIPTION:Jacki Sorensen Aerobic Dance Class taught by Debbie! \nwww.jackis.com \nFor pricing and more info contact Debbie at 920-729-5988 or debbeadswithlove@yahoo.com \n 
URL:https://absolutedanz.com/event/aerobic-dance-w-debbie/2026-05-25/
LOCATION:Absolute Danz\, 1261 Appleton Road\, Menasha\, WI
END:VEVENT
BEGIN:VEVENT
DTSTART;TZID=America/Chicago:20260527T090000
DTEND;TZID=America/Chicago:20260527T100000
DTSTAMP:20260420T025342
CREATED:20241014T153332Z
LAST-MODIFIED:20241014T153332Z
UID:10000396-1779872400-1779876000@absolutedanz.com
SUMMARY:Aerobic Dance w/ Debbie
DESCRIPTION:Jacki Sorensen Aerobic Dance Class taught by Debbie! \nwww.jackis.com \nFor pricing and more info contact Debbie at 920-729-5988 or debbeadswithlove@yahoo.com \n 
URL:https://absolutedanz.com/event/aerobic-dance-w-debbie/2026-05-27/
LOCATION:Absolute Danz\, 1261 Appleton Road\, Menasha\, WI
END:VEVENT
BEGIN:VEVENT
DTSTART;TZID=America/Chicago:20260529T090000
DTEND;TZID=America/Chicago:20260529T100000
DTSTAMP:20260420T025342
CREATED:20241014T153332Z
LAST-MODIFIED:20241014T153332Z
UID:10000397-1780045200-1780048800@absolutedanz.com
SUMMARY:Aerobic Dance w/ Debbie
DESCRIPTION:Jacki Sorensen Aerobic Dance Class taught by Debbie! \nwww.jackis.com \nFor pricing and more info contact Debbie at 920-729-5988 or debbeadswithlove@yahoo.com \n 
URL:https://absolutedanz.com/event/aerobic-dance-w-debbie/2026-05-29/
LOCATION:Absolute Danz\, 1261 Appleton Road\, Menasha\, WI
END:VEVENT
BEGIN:VEVENT
DTSTART;TZID=America/Chicago:20260601T090000
DTEND;TZID=America/Chicago:20260601T100000
DTSTAMP:20260420T025342
CREATED:20241014T153332Z
LAST-MODIFIED:20241014T153332Z
UID:10000398-1780304400-1780308000@absolutedanz.com
SUMMARY:Aerobic Dance w/ Debbie
DESCRIPTION:Jacki Sorensen Aerobic Dance Class taught by Debbie! \nwww.jackis.com \nFor pricing and more info contact Debbie at 920-729-5988 or debbeadswithlove@yahoo.com \n 
URL:https://absolutedanz.com/event/aerobic-dance-w-debbie/2026-06-01/
LOCATION:Absolute Danz\, 1261 Appleton Road\, Menasha\, WI
END:VEVENT
BEGIN:VEVENT
DTSTART;TZID=America/Chicago:20260603T090000
DTEND;TZID=America/Chicago:20260603T100000
DTSTAMP:20260420T025342
CREATED:20241014T153332Z
LAST-MODIFIED:20241014T153332Z
UID:10000399-1780477200-1780480800@absolutedanz.com
SUMMARY:Aerobic Dance w/ Debbie
DESCRIPTION:Jacki Sorensen Aerobic Dance Class taught by Debbie! \nwww.jackis.com \nFor pricing and more info contact Debbie at 920-729-5988 or debbeadswithlove@yahoo.com \n 
URL:https://absolutedanz.com/event/aerobic-dance-w-debbie/2026-06-03/
LOCATION:Absolute Danz\, 1261 Appleton Road\, Menasha\, WI
END:VEVENT
BEGIN:VEVENT
DTSTART;TZID=America/Chicago:20260605T090000
DTEND;TZID=America/Chicago:20260605T100000
DTSTAMP:20260420T025342
CREATED:20241014T153332Z
LAST-MODIFIED:20241014T153332Z
UID:10000400-1780650000-1780653600@absolutedanz.com
SUMMARY:Aerobic Dance w/ Debbie
DESCRIPTION:Jacki Sorensen Aerobic Dance Class taught by Debbie! \nwww.jackis.com \nFor pricing and more info contact Debbie at 920-729-5988 or debbeadswithlove@yahoo.com \n 
URL:https://absolutedanz.com/event/aerobic-dance-w-debbie/2026-06-05/
LOCATION:Absolute Danz\, 1261 Appleton Road\, Menasha\, WI
END:VEVENT
BEGIN:VEVENT
DTSTART;TZID=America/Chicago:20260608T090000
DTEND;TZID=America/Chicago:20260608T100000
DTSTAMP:20260420T025342
CREATED:20241014T153332Z
LAST-MODIFIED:20241014T153332Z
UID:10000401-1780909200-1780912800@absolutedanz.com
SUMMARY:Aerobic Dance w/ Debbie
DESCRIPTION:Jacki Sorensen Aerobic Dance Class taught by Debbie! \nwww.jackis.com \nFor pricing and more info contact Debbie at 920-729-5988 or debbeadswithlove@yahoo.com \n 
URL:https://absolutedanz.com/event/aerobic-dance-w-debbie/2026-06-08/
LOCATION:Absolute Danz\, 1261 Appleton Road\, Menasha\, WI
END:VEVENT
BEGIN:VEVENT
DTSTART;TZID=America/Chicago:20260610T090000
DTEND;TZID=America/Chicago:20260610T100000
DTSTAMP:20260420T025342
CREATED:20241014T153332Z
LAST-MODIFIED:20241014T153332Z
UID:10000402-1781082000-1781085600@absolutedanz.com
SUMMARY:Aerobic Dance w/ Debbie
DESCRIPTION:Jacki Sorensen Aerobic Dance Class taught by Debbie! \nwww.jackis.com \nFor pricing and more info contact Debbie at 920-729-5988 or debbeadswithlove@yahoo.com \n 
URL:https://absolutedanz.com/event/aerobic-dance-w-debbie/2026-06-10/
LOCATION:Absolute Danz\, 1261 Appleton Road\, Menasha\, WI
END:VEVENT
BEGIN:VEVENT
DTSTART;TZID=America/Chicago:20260612T090000
DTEND;TZID=America/Chicago:20260612T100000
DTSTAMP:20260420T025342
CREATED:20241014T153332Z
LAST-MODIFIED:20241014T153332Z
UID:10000403-1781254800-1781258400@absolutedanz.com
SUMMARY:Aerobic Dance w/ Debbie
DESCRIPTION:Jacki Sorensen Aerobic Dance Class taught by Debbie! \nwww.jackis.com \nFor pricing and more info contact Debbie at 920-729-5988 or debbeadswithlove@yahoo.com \n 
URL:https://absolutedanz.com/event/aerobic-dance-w-debbie/2026-06-12/
LOCATION:Absolute Danz\, 1261 Appleton Road\, Menasha\, WI
END:VEVENT
BEGIN:VEVENT
DTSTART;TZID=America/Chicago:20260615T090000
DTEND;TZID=America/Chicago:20260615T100000
DTSTAMP:20260420T025342
CREATED:20241014T153332Z
LAST-MODIFIED:20241014T153332Z
UID:10000404-1781514000-1781517600@absolutedanz.com
SUMMARY:Aerobic Dance w/ Debbie
DESCRIPTION:Jacki Sorensen Aerobic Dance Class taught by Debbie! \nwww.jackis.com \nFor pricing and more info contact Debbie at 920-729-5988 or debbeadswithlove@yahoo.com \n 
URL:https://absolutedanz.com/event/aerobic-dance-w-debbie/2026-06-15/
LOCATION:Absolute Danz\, 1261 Appleton Road\, Menasha\, WI
END:VEVENT
BEGIN:VEVENT
DTSTART;TZID=America/Chicago:20260617T090000
DTEND;TZID=America/Chicago:20260617T100000
DTSTAMP:20260420T025342
CREATED:20241014T153332Z
LAST-MODIFIED:20241014T153332Z
UID:10000405-1781686800-1781690400@absolutedanz.com
SUMMARY:Aerobic Dance w/ Debbie
DESCRIPTION:Jacki Sorensen Aerobic Dance Class taught by Debbie! \nwww.jackis.com \nFor pricing and more info contact Debbie at 920-729-5988 or debbeadswithlove@yahoo.com \n 
URL:https://absolutedanz.com/event/aerobic-dance-w-debbie/2026-06-17/
LOCATION:Absolute Danz\, 1261 Appleton Road\, Menasha\, WI
END:VEVENT
BEGIN:VEVENT
DTSTART;TZID=America/Chicago:20260619T090000
DTEND;TZID=America/Chicago:20260619T100000
DTSTAMP:20260420T025342
CREATED:20241014T153332Z
LAST-MODIFIED:20241014T153332Z
UID:10000406-1781859600-1781863200@absolutedanz.com
SUMMARY:Aerobic Dance w/ Debbie
DESCRIPTION:Jacki Sorensen Aerobic Dance Class taught by Debbie! \nwww.jackis.com \nFor pricing and more info contact Debbie at 920-729-5988 or debbeadswithlove@yahoo.com \n 
URL:https://absolutedanz.com/event/aerobic-dance-w-debbie/2026-06-19/
LOCATION:Absolute Danz\, 1261 Appleton Road\, Menasha\, WI
END:VEVENT
BEGIN:VEVENT
DTSTART;TZID=America/Chicago:20260622T090000
DTEND;TZID=America/Chicago:20260622T100000
DTSTAMP:20260420T025342
CREATED:20241014T153332Z
LAST-MODIFIED:20241014T153332Z
UID:10000407-1782118800-1782122400@absolutedanz.com
SUMMARY:Aerobic Dance w/ Debbie
DESCRIPTION:Jacki Sorensen Aerobic Dance Class taught by Debbie! \nwww.jackis.com \nFor pricing and more info contact Debbie at 920-729-5988 or debbeadswithlove@yahoo.com \n 
URL:https://absolutedanz.com/event/aerobic-dance-w-debbie/2026-06-22/
LOCATION:Absolute Danz\, 1261 Appleton Road\, Menasha\, WI
END:VEVENT
BEGIN:VEVENT
DTSTART;TZID=America/Chicago:20260624T090000
DTEND;TZID=America/Chicago:20260624T100000
DTSTAMP:20260420T025342
CREATED:20241014T153332Z
LAST-MODIFIED:20241014T153332Z
UID:10000408-1782291600-1782295200@absolutedanz.com
SUMMARY:Aerobic Dance w/ Debbie
DESCRIPTION:Jacki Sorensen Aerobic Dance Class taught by Debbie! \nwww.jackis.com \nFor pricing and more info contact Debbie at 920-729-5988 or debbeadswithlove@yahoo.com \n 
URL:https://absolutedanz.com/event/aerobic-dance-w-debbie/2026-06-24/
LOCATION:Absolute Danz\, 1261 Appleton Road\, Menasha\, WI
END:VEVENT
BEGIN:VEVENT
DTSTART;TZID=America/Chicago:20260626T090000
DTEND;TZID=America/Chicago:20260626T100000
DTSTAMP:20260420T025342
CREATED:20241014T153332Z
LAST-MODIFIED:20241014T153332Z
UID:10000409-1782464400-1782468000@absolutedanz.com
SUMMARY:Aerobic Dance w/ Debbie
DESCRIPTION:Jacki Sorensen Aerobic Dance Class taught by Debbie! \nwww.jackis.com \nFor pricing and more info contact Debbie at 920-729-5988 or debbeadswithlove@yahoo.com \n 
URL:https://absolutedanz.com/event/aerobic-dance-w-debbie/2026-06-26/
LOCATION:Absolute Danz\, 1261 Appleton Road\, Menasha\, WI
END:VEVENT
END:VCALENDAR