BEGIN:VCALENDAR
VERSION:2.0
PRODID:-//Absolute Danz - ECPv6.15.20//NONSGML v1.0//EN
CALSCALE:GREGORIAN
METHOD:PUBLISH
X-WR-CALNAME:Absolute Danz
X-ORIGINAL-URL:https://absolutedanz.com
X-WR-CALDESC:Events for Absolute Danz
REFRESH-INTERVAL;VALUE=DURATION:PT1H
X-Robots-Tag:noindex
X-PUBLISHED-TTL:PT1H
BEGIN:VTIMEZONE
TZID:America/Chicago
BEGIN:DAYLIGHT
TZOFFSETFROM:-0600
TZOFFSETTO:-0500
TZNAME:CDT
DTSTART:20240310T080000
END:DAYLIGHT
BEGIN:STANDARD
TZOFFSETFROM:-0500
TZOFFSETTO:-0600
TZNAME:CST
DTSTART:20241103T070000
END:STANDARD
BEGIN:DAYLIGHT
TZOFFSETFROM:-0600
TZOFFSETTO:-0500
TZNAME:CDT
DTSTART:20250309T080000
END:DAYLIGHT
BEGIN:STANDARD
TZOFFSETFROM:-0500
TZOFFSETTO:-0600
TZNAME:CST
DTSTART:20251102T070000
END:STANDARD
BEGIN:DAYLIGHT
TZOFFSETFROM:-0600
TZOFFSETTO:-0500
TZNAME:CDT
DTSTART:20260308T080000
END:DAYLIGHT
BEGIN:STANDARD
TZOFFSETFROM:-0500
TZOFFSETTO:-0600
TZNAME:CST
DTSTART:20261101T070000
END:STANDARD
END:VTIMEZONE
BEGIN:VEVENT
DTSTART;VALUE=DATE:20250604
DTEND;VALUE=DATE:20250605
DTSTAMP:20260423T053953
CREATED:20241014T153703Z
LAST-MODIFIED:20241014T153703Z
UID:10001160-1748995200-1749081599@absolutedanz.com
SUMMARY:Ballroom/Latin lessons available by appointment
DESCRIPTION:Email absolutedanz@gmail.com for more info!
URL:https://absolutedanz.com/event/ballroom-latin-lessons-available-by-appointment/2025-06-04/
LOCATION:Absolute Danz\, 1261 Appleton Road\, Menasha\, WI
END:VEVENT
BEGIN:VEVENT
DTSTART;TZID=America/Chicago:20250604T090000
DTEND;TZID=America/Chicago:20250604T100000
DTSTAMP:20260423T053953
CREATED:20241014T153332Z
LAST-MODIFIED:20241014T153332Z
UID:10000243-1749027600-1749031200@absolutedanz.com
SUMMARY:Aerobic Dance w/ Debbie
DESCRIPTION:Jacki Sorensen Aerobic Dance Class taught by Debbie! \nwww.jackis.com \nFor pricing and more info contact Debbie at 920-729-5988 or debbeadswithlove@yahoo.com \n 
URL:https://absolutedanz.com/event/aerobic-dance-w-debbie/2025-06-04/
LOCATION:Absolute Danz\, 1261 Appleton Road\, Menasha\, WI
END:VEVENT
BEGIN:VEVENT
DTSTART;VALUE=DATE:20250605
DTEND;VALUE=DATE:20250606
DTSTAMP:20260423T053953
CREATED:20241014T153703Z
LAST-MODIFIED:20241014T153703Z
UID:10001161-1749081600-1749167999@absolutedanz.com
SUMMARY:Ballroom/Latin lessons available by appointment
DESCRIPTION:Email absolutedanz@gmail.com for more info!
URL:https://absolutedanz.com/event/ballroom-latin-lessons-available-by-appointment/2025-06-05/
LOCATION:Absolute Danz\, 1261 Appleton Road\, Menasha\, WI
END:VEVENT
BEGIN:VEVENT
DTSTART;VALUE=DATE:20250606
DTEND;VALUE=DATE:20250607
DTSTAMP:20260423T053953
CREATED:20241014T153703Z
LAST-MODIFIED:20241014T153703Z
UID:10001162-1749168000-1749254399@absolutedanz.com
SUMMARY:Ballroom/Latin lessons available by appointment
DESCRIPTION:Email absolutedanz@gmail.com for more info!
URL:https://absolutedanz.com/event/ballroom-latin-lessons-available-by-appointment/2025-06-06/
LOCATION:Absolute Danz\, 1261 Appleton Road\, Menasha\, WI
END:VEVENT
BEGIN:VEVENT
DTSTART;TZID=America/Chicago:20250606T090000
DTEND;TZID=America/Chicago:20250606T100000
DTSTAMP:20260423T053953
CREATED:20241014T153332Z
LAST-MODIFIED:20241014T153332Z
UID:10000244-1749200400-1749204000@absolutedanz.com
SUMMARY:Aerobic Dance w/ Debbie
DESCRIPTION:Jacki Sorensen Aerobic Dance Class taught by Debbie! \nwww.jackis.com \nFor pricing and more info contact Debbie at 920-729-5988 or debbeadswithlove@yahoo.com \n 
URL:https://absolutedanz.com/event/aerobic-dance-w-debbie/2025-06-06/
LOCATION:Absolute Danz\, 1261 Appleton Road\, Menasha\, WI
END:VEVENT
BEGIN:VEVENT
DTSTART;VALUE=DATE:20250607
DTEND;VALUE=DATE:20250608
DTSTAMP:20260423T053953
CREATED:20241014T153703Z
LAST-MODIFIED:20241014T153703Z
UID:10001163-1749254400-1749340799@absolutedanz.com
SUMMARY:Ballroom/Latin lessons available by appointment
DESCRIPTION:Email absolutedanz@gmail.com for more info!
URL:https://absolutedanz.com/event/ballroom-latin-lessons-available-by-appointment/2025-06-07/
LOCATION:Absolute Danz\, 1261 Appleton Road\, Menasha\, WI
END:VEVENT
BEGIN:VEVENT
DTSTART;VALUE=DATE:20250608
DTEND;VALUE=DATE:20250609
DTSTAMP:20260423T053953
CREATED:20241014T153703Z
LAST-MODIFIED:20241014T153703Z
UID:10001164-1749340800-1749427199@absolutedanz.com
SUMMARY:Ballroom/Latin lessons available by appointment
DESCRIPTION:Email absolutedanz@gmail.com for more info!
URL:https://absolutedanz.com/event/ballroom-latin-lessons-available-by-appointment/2025-06-08/
LOCATION:Absolute Danz\, 1261 Appleton Road\, Menasha\, WI
END:VEVENT
BEGIN:VEVENT
DTSTART;VALUE=DATE:20250609
DTEND;VALUE=DATE:20250610
DTSTAMP:20260423T053953
CREATED:20241014T153703Z
LAST-MODIFIED:20241014T153703Z
UID:10001165-1749427200-1749513599@absolutedanz.com
SUMMARY:Ballroom/Latin lessons available by appointment
DESCRIPTION:Email absolutedanz@gmail.com for more info!
URL:https://absolutedanz.com/event/ballroom-latin-lessons-available-by-appointment/2025-06-09/
LOCATION:Absolute Danz\, 1261 Appleton Road\, Menasha\, WI
END:VEVENT
BEGIN:VEVENT
DTSTART;TZID=America/Chicago:20250609T090000
DTEND;TZID=America/Chicago:20250609T100000
DTSTAMP:20260423T053953
CREATED:20241014T153332Z
LAST-MODIFIED:20241014T153332Z
UID:10000245-1749459600-1749463200@absolutedanz.com
SUMMARY:Aerobic Dance w/ Debbie
DESCRIPTION:Jacki Sorensen Aerobic Dance Class taught by Debbie! \nwww.jackis.com \nFor pricing and more info contact Debbie at 920-729-5988 or debbeadswithlove@yahoo.com \n 
URL:https://absolutedanz.com/event/aerobic-dance-w-debbie/2025-06-09/
LOCATION:Absolute Danz\, 1261 Appleton Road\, Menasha\, WI
END:VEVENT
BEGIN:VEVENT
DTSTART;VALUE=DATE:20250610
DTEND;VALUE=DATE:20250611
DTSTAMP:20260423T053953
CREATED:20241014T153703Z
LAST-MODIFIED:20241014T153703Z
UID:10001166-1749513600-1749599999@absolutedanz.com
SUMMARY:Ballroom/Latin lessons available by appointment
DESCRIPTION:Email absolutedanz@gmail.com for more info!
URL:https://absolutedanz.com/event/ballroom-latin-lessons-available-by-appointment/2025-06-10/
LOCATION:Absolute Danz\, 1261 Appleton Road\, Menasha\, WI
END:VEVENT
BEGIN:VEVENT
DTSTART;VALUE=DATE:20250611
DTEND;VALUE=DATE:20250612
DTSTAMP:20260423T053953
CREATED:20241014T153703Z
LAST-MODIFIED:20241014T153703Z
UID:10001167-1749600000-1749686399@absolutedanz.com
SUMMARY:Ballroom/Latin lessons available by appointment
DESCRIPTION:Email absolutedanz@gmail.com for more info!
URL:https://absolutedanz.com/event/ballroom-latin-lessons-available-by-appointment/2025-06-11/
LOCATION:Absolute Danz\, 1261 Appleton Road\, Menasha\, WI
END:VEVENT
BEGIN:VEVENT
DTSTART;TZID=America/Chicago:20250611T090000
DTEND;TZID=America/Chicago:20250611T100000
DTSTAMP:20260423T053953
CREATED:20241014T153332Z
LAST-MODIFIED:20241014T153332Z
UID:10000246-1749632400-1749636000@absolutedanz.com
SUMMARY:Aerobic Dance w/ Debbie
DESCRIPTION:Jacki Sorensen Aerobic Dance Class taught by Debbie! \nwww.jackis.com \nFor pricing and more info contact Debbie at 920-729-5988 or debbeadswithlove@yahoo.com \n 
URL:https://absolutedanz.com/event/aerobic-dance-w-debbie/2025-06-11/
LOCATION:Absolute Danz\, 1261 Appleton Road\, Menasha\, WI
END:VEVENT
BEGIN:VEVENT
DTSTART;VALUE=DATE:20250612
DTEND;VALUE=DATE:20250613
DTSTAMP:20260423T053953
CREATED:20241014T153703Z
LAST-MODIFIED:20241014T153703Z
UID:10001168-1749686400-1749772799@absolutedanz.com
SUMMARY:Ballroom/Latin lessons available by appointment
DESCRIPTION:Email absolutedanz@gmail.com for more info!
URL:https://absolutedanz.com/event/ballroom-latin-lessons-available-by-appointment/2025-06-12/
LOCATION:Absolute Danz\, 1261 Appleton Road\, Menasha\, WI
END:VEVENT
BEGIN:VEVENT
DTSTART;VALUE=DATE:20250613
DTEND;VALUE=DATE:20250614
DTSTAMP:20260423T053953
CREATED:20241014T153703Z
LAST-MODIFIED:20241014T153703Z
UID:10001169-1749772800-1749859199@absolutedanz.com
SUMMARY:Ballroom/Latin lessons available by appointment
DESCRIPTION:Email absolutedanz@gmail.com for more info!
URL:https://absolutedanz.com/event/ballroom-latin-lessons-available-by-appointment/2025-06-13/
LOCATION:Absolute Danz\, 1261 Appleton Road\, Menasha\, WI
END:VEVENT
BEGIN:VEVENT
DTSTART;TZID=America/Chicago:20250613T090000
DTEND;TZID=America/Chicago:20250613T100000
DTSTAMP:20260423T053953
CREATED:20241014T153332Z
LAST-MODIFIED:20241014T153332Z
UID:10000247-1749805200-1749808800@absolutedanz.com
SUMMARY:Aerobic Dance w/ Debbie
DESCRIPTION:Jacki Sorensen Aerobic Dance Class taught by Debbie! \nwww.jackis.com \nFor pricing and more info contact Debbie at 920-729-5988 or debbeadswithlove@yahoo.com \n 
URL:https://absolutedanz.com/event/aerobic-dance-w-debbie/2025-06-13/
LOCATION:Absolute Danz\, 1261 Appleton Road\, Menasha\, WI
END:VEVENT
BEGIN:VEVENT
DTSTART;VALUE=DATE:20250614
DTEND;VALUE=DATE:20250615
DTSTAMP:20260423T053953
CREATED:20241014T153703Z
LAST-MODIFIED:20241014T153703Z
UID:10001170-1749859200-1749945599@absolutedanz.com
SUMMARY:Ballroom/Latin lessons available by appointment
DESCRIPTION:Email absolutedanz@gmail.com for more info!
URL:https://absolutedanz.com/event/ballroom-latin-lessons-available-by-appointment/2025-06-14/
LOCATION:Absolute Danz\, 1261 Appleton Road\, Menasha\, WI
END:VEVENT
BEGIN:VEVENT
DTSTART;VALUE=DATE:20250615
DTEND;VALUE=DATE:20250616
DTSTAMP:20260423T053953
CREATED:20241014T153703Z
LAST-MODIFIED:20241014T153703Z
UID:10001171-1749945600-1750031999@absolutedanz.com
SUMMARY:Ballroom/Latin lessons available by appointment
DESCRIPTION:Email absolutedanz@gmail.com for more info!
URL:https://absolutedanz.com/event/ballroom-latin-lessons-available-by-appointment/2025-06-15/
LOCATION:Absolute Danz\, 1261 Appleton Road\, Menasha\, WI
END:VEVENT
BEGIN:VEVENT
DTSTART;VALUE=DATE:20250616
DTEND;VALUE=DATE:20250617
DTSTAMP:20260423T053953
CREATED:20241014T153703Z
LAST-MODIFIED:20241014T153703Z
UID:10001172-1750032000-1750118399@absolutedanz.com
SUMMARY:Ballroom/Latin lessons available by appointment
DESCRIPTION:Email absolutedanz@gmail.com for more info!
URL:https://absolutedanz.com/event/ballroom-latin-lessons-available-by-appointment/2025-06-16/
LOCATION:Absolute Danz\, 1261 Appleton Road\, Menasha\, WI
END:VEVENT
BEGIN:VEVENT
DTSTART;TZID=America/Chicago:20250616T090000
DTEND;TZID=America/Chicago:20250616T100000
DTSTAMP:20260423T053953
CREATED:20241014T153332Z
LAST-MODIFIED:20241014T153332Z
UID:10000248-1750064400-1750068000@absolutedanz.com
SUMMARY:Aerobic Dance w/ Debbie
DESCRIPTION:Jacki Sorensen Aerobic Dance Class taught by Debbie! \nwww.jackis.com \nFor pricing and more info contact Debbie at 920-729-5988 or debbeadswithlove@yahoo.com \n 
URL:https://absolutedanz.com/event/aerobic-dance-w-debbie/2025-06-16/
LOCATION:Absolute Danz\, 1261 Appleton Road\, Menasha\, WI
END:VEVENT
BEGIN:VEVENT
DTSTART;VALUE=DATE:20250617
DTEND;VALUE=DATE:20250618
DTSTAMP:20260423T053953
CREATED:20241014T153703Z
LAST-MODIFIED:20241014T153703Z
UID:10001173-1750118400-1750204799@absolutedanz.com
SUMMARY:Ballroom/Latin lessons available by appointment
DESCRIPTION:Email absolutedanz@gmail.com for more info!
URL:https://absolutedanz.com/event/ballroom-latin-lessons-available-by-appointment/2025-06-17/
LOCATION:Absolute Danz\, 1261 Appleton Road\, Menasha\, WI
END:VEVENT
BEGIN:VEVENT
DTSTART;VALUE=DATE:20250618
DTEND;VALUE=DATE:20250619
DTSTAMP:20260423T053953
CREATED:20241014T153703Z
LAST-MODIFIED:20241014T153703Z
UID:10001174-1750204800-1750291199@absolutedanz.com
SUMMARY:Ballroom/Latin lessons available by appointment
DESCRIPTION:Email absolutedanz@gmail.com for more info!
URL:https://absolutedanz.com/event/ballroom-latin-lessons-available-by-appointment/2025-06-18/
LOCATION:Absolute Danz\, 1261 Appleton Road\, Menasha\, WI
END:VEVENT
BEGIN:VEVENT
DTSTART;TZID=America/Chicago:20250618T090000
DTEND;TZID=America/Chicago:20250618T100000
DTSTAMP:20260423T053953
CREATED:20241014T153332Z
LAST-MODIFIED:20241014T153332Z
UID:10000249-1750237200-1750240800@absolutedanz.com
SUMMARY:Aerobic Dance w/ Debbie
DESCRIPTION:Jacki Sorensen Aerobic Dance Class taught by Debbie! \nwww.jackis.com \nFor pricing and more info contact Debbie at 920-729-5988 or debbeadswithlove@yahoo.com \n 
URL:https://absolutedanz.com/event/aerobic-dance-w-debbie/2025-06-18/
LOCATION:Absolute Danz\, 1261 Appleton Road\, Menasha\, WI
END:VEVENT
BEGIN:VEVENT
DTSTART;VALUE=DATE:20250619
DTEND;VALUE=DATE:20250620
DTSTAMP:20260423T053953
CREATED:20241014T153703Z
LAST-MODIFIED:20241014T153703Z
UID:10001175-1750291200-1750377599@absolutedanz.com
SUMMARY:Ballroom/Latin lessons available by appointment
DESCRIPTION:Email absolutedanz@gmail.com for more info!
URL:https://absolutedanz.com/event/ballroom-latin-lessons-available-by-appointment/2025-06-19/
LOCATION:Absolute Danz\, 1261 Appleton Road\, Menasha\, WI
END:VEVENT
BEGIN:VEVENT
DTSTART;VALUE=DATE:20250620
DTEND;VALUE=DATE:20250621
DTSTAMP:20260423T053953
CREATED:20241014T153703Z
LAST-MODIFIED:20241014T153703Z
UID:10001176-1750377600-1750463999@absolutedanz.com
SUMMARY:Ballroom/Latin lessons available by appointment
DESCRIPTION:Email absolutedanz@gmail.com for more info!
URL:https://absolutedanz.com/event/ballroom-latin-lessons-available-by-appointment/2025-06-20/
LOCATION:Absolute Danz\, 1261 Appleton Road\, Menasha\, WI
END:VEVENT
BEGIN:VEVENT
DTSTART;TZID=America/Chicago:20250620T090000
DTEND;TZID=America/Chicago:20250620T100000
DTSTAMP:20260423T053953
CREATED:20241014T153332Z
LAST-MODIFIED:20241014T153332Z
UID:10000250-1750410000-1750413600@absolutedanz.com
SUMMARY:Aerobic Dance w/ Debbie
DESCRIPTION:Jacki Sorensen Aerobic Dance Class taught by Debbie! \nwww.jackis.com \nFor pricing and more info contact Debbie at 920-729-5988 or debbeadswithlove@yahoo.com \n 
URL:https://absolutedanz.com/event/aerobic-dance-w-debbie/2025-06-20/
LOCATION:Absolute Danz\, 1261 Appleton Road\, Menasha\, WI
END:VEVENT
BEGIN:VEVENT
DTSTART;VALUE=DATE:20250621
DTEND;VALUE=DATE:20250622
DTSTAMP:20260423T053953
CREATED:20241014T153703Z
LAST-MODIFIED:20241014T153703Z
UID:10001177-1750464000-1750550399@absolutedanz.com
SUMMARY:Ballroom/Latin lessons available by appointment
DESCRIPTION:Email absolutedanz@gmail.com for more info!
URL:https://absolutedanz.com/event/ballroom-latin-lessons-available-by-appointment/2025-06-21/
LOCATION:Absolute Danz\, 1261 Appleton Road\, Menasha\, WI
END:VEVENT
BEGIN:VEVENT
DTSTART;VALUE=DATE:20250622
DTEND;VALUE=DATE:20250623
DTSTAMP:20260423T053953
CREATED:20241014T153703Z
LAST-MODIFIED:20241014T153703Z
UID:10001178-1750550400-1750636799@absolutedanz.com
SUMMARY:Ballroom/Latin lessons available by appointment
DESCRIPTION:Email absolutedanz@gmail.com for more info!
URL:https://absolutedanz.com/event/ballroom-latin-lessons-available-by-appointment/2025-06-22/
LOCATION:Absolute Danz\, 1261 Appleton Road\, Menasha\, WI
END:VEVENT
BEGIN:VEVENT
DTSTART;VALUE=DATE:20250623
DTEND;VALUE=DATE:20250624
DTSTAMP:20260423T053953
CREATED:20241014T153703Z
LAST-MODIFIED:20241014T153703Z
UID:10001179-1750636800-1750723199@absolutedanz.com
SUMMARY:Ballroom/Latin lessons available by appointment
DESCRIPTION:Email absolutedanz@gmail.com for more info!
URL:https://absolutedanz.com/event/ballroom-latin-lessons-available-by-appointment/2025-06-23/
LOCATION:Absolute Danz\, 1261 Appleton Road\, Menasha\, WI
END:VEVENT
BEGIN:VEVENT
DTSTART;TZID=America/Chicago:20250623T090000
DTEND;TZID=America/Chicago:20250623T100000
DTSTAMP:20260423T053953
CREATED:20241014T153332Z
LAST-MODIFIED:20241014T153332Z
UID:10000251-1750669200-1750672800@absolutedanz.com
SUMMARY:Aerobic Dance w/ Debbie
DESCRIPTION:Jacki Sorensen Aerobic Dance Class taught by Debbie! \nwww.jackis.com \nFor pricing and more info contact Debbie at 920-729-5988 or debbeadswithlove@yahoo.com \n 
URL:https://absolutedanz.com/event/aerobic-dance-w-debbie/2025-06-23/
LOCATION:Absolute Danz\, 1261 Appleton Road\, Menasha\, WI
END:VEVENT
BEGIN:VEVENT
DTSTART;VALUE=DATE:20250624
DTEND;VALUE=DATE:20250625
DTSTAMP:20260423T053953
CREATED:20241014T153703Z
LAST-MODIFIED:20241014T153703Z
UID:10001180-1750723200-1750809599@absolutedanz.com
SUMMARY:Ballroom/Latin lessons available by appointment
DESCRIPTION:Email absolutedanz@gmail.com for more info!
URL:https://absolutedanz.com/event/ballroom-latin-lessons-available-by-appointment/2025-06-24/
LOCATION:Absolute Danz\, 1261 Appleton Road\, Menasha\, WI
END:VEVENT
END:VCALENDAR